BEGIN:VCALENDAR
VERSION:2.0
PRODID:-//Biblioteca Santa Ana - ECPv6.15.18//NONSGML v1.0//EN
CALSCALE:GREGORIAN
METHOD:PUBLISH
X-ORIGINAL-URL:https://www.bpmsantaana.es
X-WR-CALDESC:Eventos para Biblioteca Santa Ana
REFRESH-INTERVAL;VALUE=DURATION:PT1H
X-Robots-Tag:noindex
X-PUBLISHED-TTL:PT1H
BEGIN:VTIMEZONE
TZID:UTC
BEGIN:STANDARD
TZOFFSETFROM:+0000
TZOFFSETTO:+0000
TZNAME:UTC
DTSTART:20230101T000000
END:STANDARD
END:VTIMEZONE
BEGIN:VEVENT
DTSTART;TZID=UTC:20241030T180000
DTEND;TZID=UTC:20241030T190000
DTSTAMP:20260425T143948
CREATED:20241022T101819Z
LAST-MODIFIED:20241022T101819Z
UID:2955-1730311200-1730314800@www.bpmsantaana.es
SUMMARY:Encuentro literario con Emilia González Vadillo
DESCRIPTION:Te invitamos a nuestro próximo encuentro literario con la escritora pacense Emilia González Vadillo\, quién presentará su libro «Solo tres días». ¡Una oportunidad única para sumergirte en su obra y conocer más sobre su proceso creativo! \nEntrada libre hasta completar aforo
URL:https://www.bpmsantaana.es/evento/encuentro-literario-con-emilia-gonzalez-vadillo/
LOCATION:Biblioteca Municipal Santa Ana. Badajoz\, Plaza de Sta. Ana\, s/n\, Badajoz\, España
CATEGORIES:Presentaciones Libros
ATTACH;FMTTYPE=image/jpeg:https://www.bpmsantaana.es/wp-content/uploads/2024/10/presentacion-emilia-gonzalez-vadillo.jpg
ORGANIZER;CN="C%C3%B3dice Gesti%C3%B3n de la Informaci%C3%B3n":MAILTO:info@codicegestion.com
END:VEVENT
END:VCALENDAR