BEGIN:VCALENDAR
VERSION:2.0
PRODID:-//Biblioteca Santa Ana - ECPv6.15.18//NONSGML v1.0//EN
CALSCALE:GREGORIAN
METHOD:PUBLISH
X-WR-CALNAME:Biblioteca Santa Ana
X-ORIGINAL-URL:https://www.bpmsantaana.es
X-WR-CALDESC:Eventos para Biblioteca Santa Ana
REFRESH-INTERVAL;VALUE=DURATION:PT1H
X-Robots-Tag:noindex
X-PUBLISHED-TTL:PT1H
BEGIN:VTIMEZONE
TZID:UTC
BEGIN:STANDARD
TZOFFSETFROM:+0000
TZOFFSETTO:+0000
TZNAME:UTC
DTSTART:20230101T000000
END:STANDARD
END:VTIMEZONE
BEGIN:VEVENT
DTSTART;TZID=UTC:20240529T190000
DTEND;TZID=UTC:20240529T200000
DTSTAMP:20260425T173716
CREATED:20240520T164232Z
LAST-MODIFIED:20240520T164248Z
UID:2491-1717009200-1717012800@www.bpmsantaana.es
SUMMARY:PRESENTACIÓN LITERARIA «LAS CUATRO ESQUINAS DE MIS AMORES» CON CONCEPCIÓN FOSA
DESCRIPTION:El próximo miércoles\, día 29 de mayo\, a las 19:00 h. estará con nosotros la psicóloga y escritora Concepción Fosa Aguilar\, presentando su libro “Las cuatro esquinas de mis amores”.\n\nAdemás\, durante el evento se podrá disfrutar de música en directo con el saxofonista Alejandro Doncel.
URL:https://www.bpmsantaana.es/evento/2491/
LOCATION:Biblioteca Municipal Santa Ana. Badajoz\, Plaza de Sta. Ana\, s/n\, Badajoz\, España
CATEGORIES:Presentaciones Libros
ATTACH;FMTTYPE=image/jpeg:https://www.bpmsantaana.es/wp-content/uploads/2024/05/cartel_las4esquinasdemisamores.jpg
ORGANIZER;CN="C%C3%B3dice Gesti%C3%B3n de la Informaci%C3%B3n":MAILTO:info@codicegestion.com
END:VEVENT
END:VCALENDAR