BEGIN:VCALENDAR
VERSION:2.0
PRODID:-//Biblioteca Santa Ana - ECPv6.15.18//NONSGML v1.0//EN
CALSCALE:GREGORIAN
METHOD:PUBLISH
X-WR-CALNAME:Biblioteca Santa Ana
X-ORIGINAL-URL:https://www.bpmsantaana.es
X-WR-CALDESC:Eventos para Biblioteca Santa Ana
REFRESH-INTERVAL;VALUE=DURATION:PT1H
X-Robots-Tag:noindex
X-PUBLISHED-TTL:PT1H
BEGIN:VTIMEZONE
TZID:UTC
BEGIN:STANDARD
TZOFFSETFROM:+0000
TZOFFSETTO:+0000
TZNAME:UTC
DTSTART:20210101T000000
END:STANDARD
END:VTIMEZONE
BEGIN:VEVENT
DTSTART;TZID=UTC:20221007T080000
DTEND;TZID=UTC:20221007T180000
DTSTAMP:20260425T173637
CREATED:20220923T093759Z
LAST-MODIFIED:20220923T093800Z
UID:1483-1665129600-1665165600@www.bpmsantaana.es
SUMMARY:Presentación literaria "La tarjeta mágica del Señor Anatocismo"
DESCRIPTION:
URL:https://www.bpmsantaana.es/evento/presentacion-literaria-la-tarjeta-magica-del-senor-anatocismo/
LOCATION:Biblioteca Municipal Santa Ana. Badajoz\, Plaza de Sta. Ana\, s/n\, Badajoz\, España
CATEGORIES:Presentaciones Libros
ATTACH;FMTTYPE=image/jpeg:https://www.bpmsantaana.es/wp-content/uploads/2022/09/CARTEL-NIEVES2.jpg
ORGANIZER;CN="C%C3%B3dice Gesti%C3%B3n de la Informaci%C3%B3n":MAILTO:info@codicegestion.com
END:VEVENT
END:VCALENDAR